BEGIN:VCALENDAR
VERSION:2.0
PRODID:spatie/icalendar-generator
DESCRIPTION:Veranstaltungen von TriTeam Tulln
X-WR-CALDESC:Veranstaltungen von TriTeam Tulln
REFRESH-INTERVAL;VALUE=DURATION:PT1440M
X-PUBLISHED-TTL:PT1440M
BEGIN:VTIMEZONE
TZID:Europe/Vienna
BEGIN:STANDARD
DTSTART:20251026T030000Z
TZOFFSETFROM:+0200
TZOFFSETTO:+0100
END:STANDARD
BEGIN:DAYLIGHT
DTSTART:20260329T020000Z
TZOFFSETFROM:+0100
TZOFFSETTO:+0200
END:DAYLIGHT
END:VTIMEZONE
BEGIN:VTIMEZONE
TZID:UTC
BEGIN:STANDARD
DTSTART:20250724T094915Z
TZOFFSETFROM:+0000
TZOFFSETTO:+0000
END:STANDARD
END:VTIMEZONE
BEGIN:VEVENT
UID:1577-34
DTSTAMP:20260420T094915Z
SUMMARY:Schwimmen für Kinder &amp;amp\; Jugendliche (Beginner) 15:30 - 16:15 U
 hr
LOCATION:DonauSplash Karl-Metz-Gasse 1a  Tulln an der Donau  3430
ORGANIZER;CN=Kristina Zehetner:MAILTO:tina.zehetner@gmx.at
RRULE:FREQ=WEEKLY;UNTIL=20260621T000000Z
DTSTART;TZID=Europe/Vienna:20260402T153000
DTEND;TZID=Europe/Vienna:20260402T161500
X-ALT-DESC;FMTTYPE=TEXT/HTML:DO 15:30 – 16:15 Uhr  Alter: ca. 6 – 9 Ja
 hre Einstufung erflogt nach Können) Bei Bedarf\, wird diese Gruppe aufget
 eilt auf zwei Gruppen\, es richtet sich nach den Anmeldungen. Kursziel: Er
 lernen und verbessern verschiedener Schwimmstile Voraussetzungen: Kinder s
 ollten 25 m (1 Länge\, Frühschwimmer-Abzeichen) selbständig schwimmen k
 önnen. Pro Bahn max. 8 Kinder Ferien\, Feiertagen und&amp;hellip\;
CATEGORIES:Kinder,  Schwimmen
URL;VALUE=URI:https://www.triteamtulln.at/mc-events/schwimmen-fuer-kinder-j
 ugendliche-beginner-1530-1615-uhr/?mc_id=1577
METHOD:PUBLISH
END:VEVENT
BEGIN:VEVENT
UID:1615-42
DTSTAMP:20260420T094915Z
SUMMARY:Anfänger DO 18 Uhr (2 Semster)
LOCATION:DonauSplash Karl-Metz-Gasse 1a  Tulln an der Donau  3430
ORGANIZER;CN=Kristina Zehetner:MAILTO:tina.zehetner@gmx.at
RRULE:FREQ=WEEKLY;UNTIL=20260619T000000Z
DTSTART;TZID=Europe/Vienna:20260402T180000
DTEND;TZID=Europe/Vienna:20260402T190000
X-ALT-DESC;FMTTYPE=TEXT/HTML:Leicht Fortgeschritten Anfänger Voraussetzung
 en: Abgeschlossene Wassergewöhnung\, selbständiges Überwasserhalten Zie
 le: Erlernen der Kraul/Brust/Rückentechniken               
                                     DO
    18:00 - 19:00 Uhr (Donausplash Tulln) Preis pro Person (exkl. Badeein
 tritt): Semsterticket (15 EH) 12.02.2026 - 18.06.2026 Preis regulär: 300 
 € Preis Basis (10%) 270 € Preis Premium (-20%) 240 € Informationen z
 ur Mitgliedschaft findet ihr unter https://www.triteamtulln.at/mitgliedsch
 aft/  Anmeldungen für den&amp;hellip\;
CATEGORIES:Erwachsene,  Schwimmen
URL;VALUE=URI:https://www.triteamtulln.at/mc-events/anfaenger-do-18-uhr-2-s
 emster/?mc_id=1615
METHOD:PUBLISH
END:VEVENT
BEGIN:VEVENT
UID:1425-35
DTSTAMP:20260420T094915Z
SUMMARY:Anfänger/Leicht Fortgeschritten 30.09.2025 - 16.06.2026 DI 19:30 -
  20:30 Uhr
LOCATION:DonauSplash Karl-Metz-Gasse 1a  Tulln an der Donau  3430
ORGANIZER;CN=Kristina Zehetner:MAILTO:tina.zehetner@gmx.at
RRULE:FREQ=WEEKLY;UNTIL=20260617T000000Z
DTSTART;TZID=Europe/Vienna:20260407T193000
DTEND;TZID=Europe/Vienna:20260407T203000
X-ALT-DESC;FMTTYPE=TEXT/HTML:Leicht Fortgeschritten Anfänger Voraussetzung
 en: Abgeschlossene Wassergewöhnung\, selbständiges Überwasserhalten Zie
 le: Erlernen der Kraul/Brust/Rückentechniken               
                                     DI 
   19:30 - 20:30 Uhr (Donausplash Tulln) Preis pro Person (exkl. Badeeintr
 itt): Semsterticket (15 EH) Jahresticket (30 EH) 10.02.2026 - 18.06.2026 3
 0.09.2025 - 18.06.2026 Preis regulär: 300 € Preis regulär: 500 € Pre
 is Basis (10%) 270 € Preis Basis (-10%) 450&amp;hellip\;
CATEGORIES:Erwachsene,  Schwimmen
URL;VALUE=URI:https://www.triteamtulln.at/mc-events/anfaenger-leicht-fortge
 schritten-30-09-2025-16-06-2026-di-1930-2030-uhr/?mc_id=1425
METHOD:PUBLISH
END:VEVENT
BEGIN:VEVENT
UID:1305-33
DTSTAMP:20260420T094915Z
SUMMARY:Schwimmen für Kinder &amp;amp\; Jugendliche (Schwimmer) 16:20 - 17:10 
 Uhr
LOCATION:DonauSplash Karl-Metz-Gasse 1a  Tulln an der Donau  3430
ORGANIZER;CN=Kristina Zehetner:MAILTO:tina.zehetner@gmx.at
RRULE:FREQ=WEEKLY;UNTIL=20260621T000000Z
DTSTART;TZID=Europe/Vienna:20260409T162000
DTEND;TZID=Europe/Vienna:20260409T171000
X-ALT-DESC;FMTTYPE=TEXT/HTML:DO 16:20 – 17:05 Uhr (Schwimmer) Alter: ca. 
 9 – 11 Jahren (Einteilung primär nach Können und nicht nach Alter) Kur
 sziel: Erlernen und verbessern verschiedener Schwimmstile Voraussetzungen:
  Kinder sollten 100 m (4 Längen) selbständig schwimmen können. Pro Bahn
  max. 8 Kinder &amp;nbsp\; Ferien\, Feiertagen und am 30.04. findet keine Trai
 ning statt!!!! Verlässliche Zu und Absage&amp;hellip\;
CATEGORIES:Kinder,  Schwimmen
URL;VALUE=URI:https://www.triteamtulln.at/mc-events/schwimmen-fuer-kinder-j
 ugendliche-schwimmer-1620-1710-uhr/?mc_id=1305
METHOD:PUBLISH
END:VEVENT
BEGIN:VEVENT
UID:1267-32
DTSTAMP:20260420T094915Z
SUMMARY:Schwimmen für Kinder &amp;amp\; Jugendliche (Profis) 17-18 Uhr
LOCATION:DonauSplash Karl-Metz-Gasse 1a  Tulln an der Donau  3430
ORGANIZER;CN=Kristina Zehetner:MAILTO:tina.zehetner@gmx.at
RRULE:FREQ=WEEKLY;UNTIL=20260621T000000Z
DTSTART;TZID=Europe/Vienna:20260409T170000
DTEND;TZID=Europe/Vienna:20260409T180000
X-ALT-DESC;FMTTYPE=TEXT/HTML:DO 17:10 – 18.00 Uhr (Profis) Alter: ca. 11 
 – 15 Jahre (Einteilung primär nach Können und nicht nach Alter) Kurszi
 el: Verbessern verschiedener Schwimmstile Voraussetzungen: Kinder sollten 
 200m (8 Längen) selbständig und ohne Pause schwimmen können. Pro Bahn m
 ax. 8 Kinder &amp;nbsp\; &amp;nbsp\; Ferien\, Feiertagen und am 30.04. findet kein
 e Training statt!!!! Verlässliche Zu und&amp;hellip\;
CATEGORIES:Kinder,  Schwimmen
URL;VALUE=URI:https://www.triteamtulln.at/mc-events/schwimmen-fuer-kinder-j
 ugendliche-profis-17-18-uhr/?mc_id=1267
METHOD:PUBLISH
END:VEVENT
BEGIN:VEVENT
UID:1501-39
DTSTAMP:20260420T094915Z
SUMMARY:Fortgeschrittene DO 19 Uhr
LOCATION:DonauSplash Karl-Metz-Gasse 1a  Tulln an der Donau  3430
ORGANIZER;CN=Kristina Zehetner:MAILTO:tina.zehetner@gmx.at
RRULE:FREQ=WEEKLY;UNTIL=20260619T000000Z
DTSTART;TZID=Europe/Vienna:20260409T190000
DTEND;TZID=Europe/Vienna:20260409T200000
X-ALT-DESC;FMTTYPE=TEXT/HTML:Fortgeschrittene Voraussetzungen: Beherrschen 
 der Kraultechnik und Brusttechnik in der Grobform Ziel: Verbesserung aller
  Lagen (Feinform) Preis pro Person (exkl. Badeeintritt): Semsterticket (15
  EH) Jahresticket (30 EH) 12.02.2026-18.06.2026 30.09.2025 - 18.06.2026 Pr
 eis regulär: 300 € Preis regulär: 500 € Preis Basis (10%) 270 € Pr
 eis Basis (-10%) 450 € Preis Premium (-20%) 240 € Preis Premium&amp;hellip
 \;
CATEGORIES:Erwachsene,  Schwimmen
URL;VALUE=URI:https://www.triteamtulln.at/mc-events/fortgeschrittene-do-19-
 uhr/?mc_id=1501
METHOD:PUBLISH
END:VEVENT
BEGIN:VEVENT
UID:1463-38
DTSTAMP:20260420T094915Z
SUMMARY:Könner/Gute Fortgeschrittene DO 20 Uhr
LOCATION:DonauSplash Karl-Metz-Gasse 1a  Tulln an der Donau  3430
ORGANIZER;CN=Kristina Zehetner:MAILTO:tina.zehetner@gmx.at
RRULE:FREQ=WEEKLY;UNTIL=20260619T000000Z
DTSTART;TZID=Europe/Vienna:20260409T200000
DTEND;TZID=Europe/Vienna:20260409T211500
X-ALT-DESC;FMTTYPE=TEXT/HTML:Könner/WK-Schwimmer Gute Fortgeschrittene Vor
 aussetzungen: Beherrschen der Kraultechnik und Brusttechnik in der Fein/Gr
 obform Ziel: Verbesserung aller Lagen (Feinform)              
                                      D
 O   20:00 – 21:15 Uhr (Donausplash Tulln) &amp;nbsp\; Preis pro Person (ex
 kl. Badeeintritt): Semsterticket (15 EH) Jahresticket (30 EH) 12.02.2026-1
 8.06.2026 30.09.2025 - 18.06.2026 Preis regulär: 300 € Preis regulär: 
 500 € Preis Basis (10%) 270 €&amp;hellip\;
CATEGORIES:Erwachsene,  Schwimmen
URL;VALUE=URI:https://www.triteamtulln.at/mc-events/koenner-gute-fortgeschr
 ittene-do-20-uhr/?mc_id=1463
METHOD:PUBLISH
END:VEVENT
END:VCALENDAR